BEGIN:VCALENDAR
VERSION:2.0
PRODID:-//MassHire Greater New Bedford Workforce Development Board - ECPv6.15.20//NONSGML v1.0//EN
CALSCALE:GREGORIAN
METHOD:PUBLISH
X-ORIGINAL-URL:https://masshiregreaternewbedford.com
X-WR-CALDESC:Events for MassHire Greater New Bedford Workforce Development Board
REFRESH-INTERVAL;VALUE=DURATION:PT1H
X-Robots-Tag:noindex
X-PUBLISHED-TTL:PT1H
BEGIN:VTIMEZONE
TZID:America/New_York
BEGIN:DAYLIGHT
TZOFFSETFROM:-0500
TZOFFSETTO:-0400
TZNAME:EDT
DTSTART:20250309T070000
END:DAYLIGHT
BEGIN:STANDARD
TZOFFSETFROM:-0400
TZOFFSETTO:-0500
TZNAME:EST
DTSTART:20251102T060000
END:STANDARD
BEGIN:DAYLIGHT
TZOFFSETFROM:-0500
TZOFFSETTO:-0400
TZNAME:EDT
DTSTART:20260308T070000
END:DAYLIGHT
BEGIN:STANDARD
TZOFFSETFROM:-0400
TZOFFSETTO:-0500
TZNAME:EST
DTSTART:20261101T060000
END:STANDARD
BEGIN:DAYLIGHT
TZOFFSETFROM:-0500
TZOFFSETTO:-0400
TZNAME:EDT
DTSTART:20270314T070000
END:DAYLIGHT
BEGIN:STANDARD
TZOFFSETFROM:-0400
TZOFFSETTO:-0500
TZNAME:EST
DTSTART:20271107T060000
END:STANDARD
END:VTIMEZONE
BEGIN:VEVENT
DTSTART;TZID=America/New_York:20260424T080000
DTEND;TZID=America/New_York:20260424T090000
DTSTAMP:20260423T060046
CREATED:20260422T125629Z
LAST-MODIFIED:20260422T125918Z
UID:37312-1777017600-1777021200@masshiregreaternewbedford.com
SUMMARY:Executive Committee Meeting - RFP Review
DESCRIPTION:Agenda pending. \nContact MassHire GNB Workforce Board for meeting link.
URL:https://masshiregreaternewbedford.com/event/executive-committee-meeting-rfp-review/
LOCATION:Microsoft Teams Meeting
CATEGORIES:Executive Committee
ATTACH;FMTTYPE=image/jpeg:https://masshiregreaternewbedford.com/wp-content/uploads/WorkforceBoard_Logos_300x300GreaterNewBedford.jpg
END:VEVENT
END:VCALENDAR