BEGIN:VCALENDAR
VERSION:2.0
PRODID:-//MassHire Greater New Bedford Workforce Development Board - ECPv6.15.20//NONSGML v1.0//EN
CALSCALE:GREGORIAN
METHOD:PUBLISH
X-ORIGINAL-URL:https://masshiregreaternewbedford.com
X-WR-CALDESC:Events for MassHire Greater New Bedford Workforce Development Board
REFRESH-INTERVAL;VALUE=DURATION:PT1H
X-Robots-Tag:noindex
X-PUBLISHED-TTL:PT1H
BEGIN:VTIMEZONE
TZID:America/New_York
BEGIN:DAYLIGHT
TZOFFSETFROM:-0500
TZOFFSETTO:-0400
TZNAME:EDT
DTSTART:20240310T070000
END:DAYLIGHT
BEGIN:STANDARD
TZOFFSETFROM:-0400
TZOFFSETTO:-0500
TZNAME:EST
DTSTART:20241103T060000
END:STANDARD
BEGIN:DAYLIGHT
TZOFFSETFROM:-0500
TZOFFSETTO:-0400
TZNAME:EDT
DTSTART:20250309T070000
END:DAYLIGHT
BEGIN:STANDARD
TZOFFSETFROM:-0400
TZOFFSETTO:-0500
TZNAME:EST
DTSTART:20251102T060000
END:STANDARD
BEGIN:DAYLIGHT
TZOFFSETFROM:-0500
TZOFFSETTO:-0400
TZNAME:EDT
DTSTART:20260308T070000
END:DAYLIGHT
BEGIN:STANDARD
TZOFFSETFROM:-0400
TZOFFSETTO:-0500
TZNAME:EST
DTSTART:20261101T060000
END:STANDARD
END:VTIMEZONE
BEGIN:VEVENT
DTSTART;TZID=America/New_York:20251029T090000
DTEND;TZID=America/New_York:20251029T140000
DTSTAMP:20260423T050011
CREATED:20250815T161142Z
LAST-MODIFIED:20251020T134701Z
UID:32260-1761728400-1761746400@masshiregreaternewbedford.com
SUMMARY:Job Fair With Veterans Appreciation Hour
DESCRIPTION:Join us at the MassHire Greater New Bedford Job Fair on Wednesday\, October 29\, 2025\, at Rachel’s Lakeside in Dartmouth.  Special early access for Veterans from 9–10 am\, followed by open hours for all job seekers until 2 pm. \n \nEmployer Registration Is Closed\nGet printable PDF file. \nJob Seekers Register Now!Get printable PDF file.
URL:https://masshiregreaternewbedford.com/event/job-fair-with-veterans-appreciation-hour/
LOCATION:Rachael’s Lakesider\, 950 State Rd.\, Dartmouth\, MA\, 02747
CATEGORIES:Career Center Events,Events,Job Fairs
ATTACH;FMTTYPE=image/jpeg:https://masshiregreaternewbedford.com/wp-content/uploads/thumb1029.jpg
ORGANIZER;CN="MassHire Career Center BSU":MAILTO:SLePage@masshiregnbcc.com
END:VEVENT
BEGIN:VEVENT
DTSTART;TZID=America/New_York:20251027T150000
DTEND;TZID=America/New_York:20251027T160000
DTSTAMP:20260423T050011
CREATED:20251022T144819Z
LAST-MODIFIED:20251023T143303Z
UID:32537-1761577200-1761580800@masshiregreaternewbedford.com
SUMMARY:Small Business Empowerment Series
DESCRIPTION:The Massachusetts State Treasury’s Small Business Initiative (SBI)\, in partnership with M&T Bank\, invites you to the Small Business Empowerment Series. This free webinar series is designed to provide small business owners and aspiring entrepreneurs with practical tools and resources for success. Sessions will be presented in English with live Spanish interpretation. \nSession 1: Entrepreneurship through Acquisition\nMonday\, October 27\, 2025\n3:00–4:00 PM\nVirtual\nAvailable on zoom\nSession 2: Business Fraud Awareness & Prevention Strategies\nMonday\, November 3\, 2025\n3:00–4:00 PM\nVirtual\nAvailable on zoom\nRegister HereGet FlyerObtener folletoRegister Here
URL:https://masshiregreaternewbedford.com/event/small-business-empowerment-series/
LOCATION:Zoom Event
CATEGORIES:Community,Small Business,Workforce Development Seminars
ATTACH;FMTTYPE=image/jpeg:https://masshiregreaternewbedford.com/wp-content/uploads/SBI-Fall-2025-Empowerment-Series-Flyer-_English_-2.jpg
ORGANIZER;CN="Massachusetts State Treasury's Small Business Initiative (SBI)":MAILTO:smallbusinessma@tre.state.ma.us.
END:VEVENT
BEGIN:VEVENT
DTSTART;TZID=America/New_York:20251024T110000
DTEND;TZID=America/New_York:20251024T120000
DTSTAMP:20260423T050011
CREATED:20251007T125254Z
LAST-MODIFIED:20251007T152441Z
UID:32163-1761303600-1761307200@masshiregreaternewbedford.com
SUMMARY:WIOA MOU Partner Meeting
DESCRIPTION:Agenda pending.
URL:https://masshiregreaternewbedford.com/event/wioa-mou-partner-meeting-5/
LOCATION:MassHire Greater New Bedford Workforce Board Main Conference Room\, 25 Elm Street\, 2nd Floor\, Suite 203\, New Bedford\, MA\, 02740
CATEGORIES:WIOA MOU Partner
ATTACH;FMTTYPE=image/jpeg:https://masshiregreaternewbedford.com/wp-content/uploads/WorkforceBoard_Logos_300x300GreaterNewBedford.jpg
END:VEVENT
BEGIN:VEVENT
DTSTART;TZID=America/New_York:20251022T090000
DTEND;TZID=America/New_York:20251022T130000
DTSTAMP:20260423T050011
CREATED:20251006T124936Z
LAST-MODIFIED:20251007T145652Z
UID:32483-1761123600-1761138000@masshiregreaternewbedford.com
SUMMARY:New Bedford Connect
DESCRIPTION:Get Flyer \nGet Flyer
URL:https://masshiregreaternewbedford.com/event/new-bedford-connect/
LOCATION:YMCA\, 25 South Water Street\, New Bedford\, MA\, 02740
CATEGORIES:Community,Workforce Board Events
ATTACH;FMTTYPE=image/jpeg:https://masshiregreaternewbedford.com/wp-content/uploads/nbconnect.jpg
END:VEVENT
BEGIN:VEVENT
DTSTART;VALUE=DATE:20251021
DTEND;VALUE=DATE:20251022
DTSTAMP:20260423T050011
CREATED:20250611T152806Z
LAST-MODIFIED:20251002T201051Z
UID:31887-1761004800-1761091199@masshiregreaternewbedford.com
SUMMARY:2025 Massachusetts Manufacturng Mash-Up
DESCRIPTION:Hardtech Startup Support Opportunities at the Mash\nMassachusetts Hardtech startups: The Center for Advanced Manufacturing (CAM) team wants to see you at the fifth annual Massachusetts Manufacturing Mash-Up at Gillette Stadium. \nHardtech Startup Support Opportunities at the Mash\nMassachusetts Hardtech startups: The Center for Advanced Manufacturing (CAM) team wants to see you at the fifth annual Massachusetts Manufacturing Mash-Up at Gillette Stadium. \nOn Tuesday\, October 21 you will have a platform to connect with funders\, IP experts\, contract manufacturers and peers facing similar challenges in the hardtech startup space. \nHear from CAM Director Lily Fitzgerald now on how the state is investing in hardtech innovation\, infrastructure and supply chain networks to support business growth. Link below. \nTo learn more on how CAM can support your startup at this year’s Mash-Up\, click below and register today. \nRegister Here
URL:https://masshiregreaternewbedford.com/event/2025-massachusetts-manufacturng-mash-up-2/
LOCATION:Gillette Stadium\, 1 Patriot Place\, Foxborough\, MA\, 02035
CATEGORIES:Employer Resources
ATTACH;FMTTYPE=image/jpeg:https://masshiregreaternewbedford.com/wp-content/uploads/2025mash.jpg
ORGANIZER;CN="Center for Advanced Manufacturing at MassTech":MAILTO:manufacturing@masstech.org
END:VEVENT
BEGIN:VEVENT
DTSTART;VALUE=DATE:20251021
DTEND;VALUE=DATE:20251022
DTSTAMP:20260423T050011
CREATED:20250611T151119Z
LAST-MODIFIED:20251002T201005Z
UID:31885-1761004800-1761091199@masshiregreaternewbedford.com
SUMMARY:2025 Massachusetts Manufacturng Mash-Up
DESCRIPTION:Hardtech Startup Support Opportunities at the Mash\nMassachusetts Hardtech startups: The Center for Advanced Manufacturing (CAM) team wants to see you at the fifth annual Massachusetts Manufacturing Mash-Up at Gillette Stadium. \nHardtech Startup Support Opportunities at the Mash\nMassachusetts Hardtech startups: The Center for Advanced Manufacturing (CAM) team wants to see you at the fifth annual Massachusetts Manufacturing Mash-Up at Gillette Stadium. \nOn Tuesday\, October 21 you will have a platform to connect with funders\, IP experts\, contract manufacturers and peers facing similar challenges in the hardtech startup space. \nHear from CAM Director Lily Fitzgerald now on how the state is investing in hardtech innovation\, infrastructure and supply chain networks to support business growth. Link below. \nTo learn more on how CAM can support your startup at this year’s Mash-Up\, click below and register today. \nRegister Here
URL:https://masshiregreaternewbedford.com/event/2025-massachusetts-manufacturng-mash-up/
LOCATION:Gillette Stadium\, 1 Patriot Place\, Foxborough\, MA\, 02035
CATEGORIES:Manufacturing,State Events
ATTACH;FMTTYPE=image/jpeg:https://masshiregreaternewbedford.com/wp-content/uploads/2025mash.jpg
ORGANIZER;CN="Center for Advanced Manufacturing at MassTech":MAILTO:manufacturing@masstech.org
END:VEVENT
BEGIN:VEVENT
DTSTART;TZID=America/New_York:20251001T083000
DTEND;TZID=America/New_York:20251001T230000
DTSTAMP:20260423T050011
CREATED:20250903T134351Z
LAST-MODIFIED:20250904T194853Z
UID:32376-1759307400-1759359600@masshiregreaternewbedford.com
SUMMARY:Quarterly Board of Directors Meeting
DESCRIPTION:Agenda pending.
URL:https://masshiregreaternewbedford.com/event/quarterly-board-of-directors-meeting/
LOCATION:Merrills On the Waterfront\, 36 Homer's Wharf\, New Bedford\, MA\, 02740
CATEGORIES:Board of Directors
ATTACH;FMTTYPE=image/jpeg:https://masshiregreaternewbedford.com/wp-content/uploads/WorkforceBoard_Logos_300x300GreaterNewBedford.jpg
END:VEVENT
BEGIN:VEVENT
DTSTART;TZID=America/New_York:20250919T110000
DTEND;TZID=America/New_York:20250919T233000
DTSTAMP:20260423T050011
CREATED:20250730T154440Z
LAST-MODIFIED:20250919T141805Z
UID:32160-1758279600-1758324600@masshiregreaternewbedford.com
SUMMARY:CANCELED -- WIOA MOU Partner Meeting
DESCRIPTION:Today’s meeting has been canceled.
URL:https://masshiregreaternewbedford.com/event/wioa-mou-partner-meeting-4/
LOCATION:MassHire Greater New Bedford Workforce Board Main Conference Room\, 25 Elm Street\, 2nd Floor\, Suite 203\, New Bedford\, MA\, 02740
CATEGORIES:WIOA MOU Partner
ATTACH;FMTTYPE=image/jpeg:https://masshiregreaternewbedford.com/wp-content/uploads/WorkforceBoard_Logos_300x300GreaterNewBedford.jpg
END:VEVENT
BEGIN:VEVENT
DTSTART;TZID=America/New_York:20250918T090000
DTEND;TZID=America/New_York:20250918T140000
DTSTAMP:20260423T050011
CREATED:20250825T152435Z
LAST-MODIFIED:20250825T160502Z
UID:32302-1758186000-1758204000@masshiregreaternewbedford.com
SUMMARY:2025 SouthCoast Job Fair - September
DESCRIPTION:**JOB SEEKERS DO NOT HAVE TO PRE-REGISTER** \nJoin Us At the SouthCoast Job Fair. \nPresented by One SouthCoast Chamber\, in conjunction with our sponsors\, Lifestream\, Bristol Workforce Board and MassHire Greater New Bedford Career Center. \nThe event will take place on Thursday\, September 18\, 2025 from 9:00AM – 2:00PM at of Venus de Milo \nDiscover opportunities with the region’s leading companies and dynamic businesses.  Whether you’re seeking your next career move or just exploring\, this is the place to be! \nWhat to Expect:  \n\nFree Admission for job Seekers: Come Dressed to impress!!\nResume Ready: Don’t forget to bring resumes.\nWalt’s Mobile Closet: Offering complimentary clothing options for job seekers.\nComplimentary Translation Services: Provided by the Soco Hispanic Chamber for Spanish speakers.\n\nEmployer Registration InfoEMPLOYERS \n\nABLE Associates\, Inc.\nAll at Home Health Care\nAmego Inc\nArbor Associates  \nAtlantis Charter School\nBankers Life\nBayCoast Bank\nBlount Fine Foods\nBridgewater State University \n Bristol County Sheriff’s Office     \nBristol County Savings Bank      \nCelldex Therapeutics \nCF-NB LLC\nChildren Making Strides\nCoastal Medical Transportation Systems\nCooperative Production\, Inc.\nCrystal Springs\nDiocesan Health Facilities\nExpress Employment Professionals\nGreenscape Land Design\, Inc\nHealthFirst Family Care Center\, Inc.\nKeller Williams South Watuppa\nLees Market & Clements Marketplace\nLifeStream\, Inc.\nMassHire Bristol Workforce Board\nMini-Systems\, INC\nNew York Life\nNorthern Pelagic Group\, LLC\nPeople Incorporated\nPrysmian\nSeven Hills Foundation\nSolar Cannabis Co.\nSoutheastern Massachusetts Educational Collaborative\nSoutheastern Regional Transit Authority\nSteppingstone Incorporated\nStop and Shop\nThe Nemasket Group\, Inc.\nToyota of Dartmouth\nWhaler’s Cove
URL:https://masshiregreaternewbedford.com/event/2025-southcoast-job-fair-september/
LOCATION:Venus de Milo\, 75 Grand Army of the Republic Highway\, Swansea\, MA\, 02777
CATEGORIES:Community,Events,Job Fairs (Board News)
ATTACH;FMTTYPE=image/jpeg:https://masshiregreaternewbedford.com/wp-content/uploads/535848911_1717194365891237_3178306076308458735_n.jpg
END:VEVENT
BEGIN:VEVENT
DTSTART;TZID=America/New_York:20250917T120000
DTEND;TZID=America/New_York:20250917T130000
DTSTAMP:20260423T050011
CREATED:20250729T131517Z
LAST-MODIFIED:20250812T134245Z
UID:32149-1758110400-1758114000@masshiregreaternewbedford.com
SUMMARY:Executive Committee Meeting
DESCRIPTION:Agenda pending.
URL:https://masshiregreaternewbedford.com/event/select-executive-committee-meeting-executive-committee-meeting/
LOCATION:MassHire Greater New Bedford Workforce Board Main Conference Room\, 25 Elm Street\, 2nd Floor\, Suite 203\, New Bedford\, MA\, 02740
CATEGORIES:Executive Committee
ATTACH;FMTTYPE=image/jpeg:https://masshiregreaternewbedford.com/wp-content/uploads/WorkforceBoard_Logos_300x300GreaterNewBedford.jpg
END:VEVENT
BEGIN:VEVENT
DTSTART;VALUE=DATE:20250906
DTEND;VALUE=DATE:20250907
DTSTAMP:20260423T050011
CREATED:20250904T142509Z
LAST-MODIFIED:20250904T142509Z
UID:32383-1757116800-1757203199@masshiregreaternewbedford.com
SUMMARY:New Bedford to Host Reuse\, Repair\, & Shred Day
DESCRIPTION:Get Flyer! \nGet Flyer!
URL:https://masshiregreaternewbedford.com/event/new-bedford-to-host-reuse-repair-shred-day/
CATEGORIES:City of New Bedford,Community
ATTACH;FMTTYPE=image/jpeg:https://masshiregreaternewbedford.com/wp-content/uploads/1756994122822-e6c590be-71c5-4fd9-a661-4fadf63c7724_1.jpg
END:VEVENT
BEGIN:VEVENT
DTSTART;TZID=America/New_York:20250827T123000
DTEND;TZID=America/New_York:20250827T133000
DTSTAMP:20260423T050011
CREATED:20250812T134056Z
LAST-MODIFIED:20250812T134056Z
UID:32190-1756297800-1756301400@masshiregreaternewbedford.com
SUMMARY:Business Development Committee Meeting
DESCRIPTION:Agenda pending.
URL:https://masshiregreaternewbedford.com/event/business-development-committee-meeting/
LOCATION:Zoom Meeting
CATEGORIES:Business Development Committee
ATTACH;FMTTYPE=image/jpeg:https://masshiregreaternewbedford.com/wp-content/uploads/WorkforceBoard_Logos_300x300GreaterNewBedford.jpg
END:VEVENT
BEGIN:VEVENT
DTSTART;TZID=America/New_York:20250826T180000
DTEND;TZID=America/New_York:20250826T200000
DTSTAMP:20260423T050011
CREATED:20250815T165121Z
LAST-MODIFIED:20250815T165856Z
UID:32270-1756231200-1756238400@masshiregreaternewbedford.com
SUMMARY:Greater New Bedford Overdose Awareness Day
DESCRIPTION:Select images to view larger.
URL:https://masshiregreaternewbedford.com/event/greater-new-bedford-overdose-awareness-day/
LOCATION:New Bedford City Hall\, 133 William Street\, New Bedford\, MA\, 02740
CATEGORIES:Community,Community Happenings,Events
ATTACH;FMTTYPE=image/png:https://masshiregreaternewbedford.com/wp-content/uploads/GNB-IOAD-Table-Registration-2025.png
ORGANIZER;CN="Greater New Bedford Opioid Task Force":MAILTO:Karen.MacDonald@newbedford-ma.gov
END:VEVENT
BEGIN:VEVENT
DTSTART;TZID=America/New_York:20250820T083000
DTEND;TZID=America/New_York:20250820T213000
DTSTAMP:20260423T050011
CREATED:20250729T200801Z
LAST-MODIFIED:20250812T134149Z
UID:32153-1755678600-1755725400@masshiregreaternewbedford.com
SUMMARY:Performance & Oversight Committee Meeting
DESCRIPTION:Agenda pending.
URL:https://masshiregreaternewbedford.com/event/select-performance-oversight-committee-meeting-performance-oversight-committee-meeting/
LOCATION:Zoom Meeting
CATEGORIES:Performance & Oversite Committee
ATTACH;FMTTYPE=image/jpeg:https://masshiregreaternewbedford.com/wp-content/uploads/WorkforceBoard_Logos_300x300GreaterNewBedford.jpg
END:VEVENT
BEGIN:VEVENT
DTSTART;VALUE=DATE:20250813
DTEND;VALUE=DATE:20250814
DTSTAMP:20260423T050011
CREATED:20250728T155912Z
LAST-MODIFIED:20250728T160251Z
UID:32144-1755043200-1755129599@masshiregreaternewbedford.com
SUMMARY:Getting Veterans Off the Streets Surge Event
DESCRIPTION:
URL:https://masshiregreaternewbedford.com/event/august-13-vet-surge-cc-version/
LOCATION:Veterans Transition House\, 1297 Purchase Street\, New Bedford\, Massachusetts\, 02740
CATEGORIES:Career Center Events
ATTACH;FMTTYPE=image/jpeg:https://masshiregreaternewbedford.com/wp-content/uploads/Outreach-Event-Flyer-SE-MA-8.13.jpg
ORGANIZER;CN="U.S. Deparrtment of Veterans Affairs":MAILTO:vhaprohousing@va.gov
END:VEVENT
BEGIN:VEVENT
DTSTART;VALUE=DATE:20250813
DTEND;VALUE=DATE:20250814
DTSTAMP:20260423T050011
CREATED:20250728T154258Z
LAST-MODIFIED:20250728T154917Z
UID:32132-1755043200-1755129599@masshiregreaternewbedford.com
SUMMARY:Getting Veterans Off the Streets Surge Event
DESCRIPTION:
URL:https://masshiregreaternewbedford.com/event/getting-veterans-off-the-streets-surge-event/
LOCATION:Veterans Transition House\, 1297 Purchase Street\, New Bedford\, Massachusetts\, 02740
CATEGORIES:Community Happenings,Veterans
ATTACH;FMTTYPE=image/jpeg:https://masshiregreaternewbedford.com/wp-content/uploads/Outreach-Event-Flyer-SE-MA-8.13.jpg
ORGANIZER;CN="U.S. Deparrtment of Veterans Affairs":MAILTO:vhaprohousing@va.gov
END:VEVENT
END:VCALENDAR