BEGIN:VCALENDAR
VERSION:2.0
PRODID:-//MassHire Greater New Bedford Workforce Development Board - ECPv6.15.20//NONSGML v1.0//EN
CALSCALE:GREGORIAN
METHOD:PUBLISH
X-ORIGINAL-URL:https://masshiregreaternewbedford.com
X-WR-CALDESC:Events for MassHire Greater New Bedford Workforce Development Board
REFRESH-INTERVAL;VALUE=DURATION:PT1H
X-Robots-Tag:noindex
X-PUBLISHED-TTL:PT1H
BEGIN:VTIMEZONE
TZID:America/New_York
BEGIN:DAYLIGHT
TZOFFSETFROM:-0500
TZOFFSETTO:-0400
TZNAME:EDT
DTSTART:20250309T070000
END:DAYLIGHT
BEGIN:STANDARD
TZOFFSETFROM:-0400
TZOFFSETTO:-0500
TZNAME:EST
DTSTART:20251102T060000
END:STANDARD
BEGIN:DAYLIGHT
TZOFFSETFROM:-0500
TZOFFSETTO:-0400
TZNAME:EDT
DTSTART:20260308T070000
END:DAYLIGHT
BEGIN:STANDARD
TZOFFSETFROM:-0400
TZOFFSETTO:-0500
TZNAME:EST
DTSTART:20261101T060000
END:STANDARD
BEGIN:DAYLIGHT
TZOFFSETFROM:-0500
TZOFFSETTO:-0400
TZNAME:EDT
DTSTART:20270314T070000
END:DAYLIGHT
BEGIN:STANDARD
TZOFFSETFROM:-0400
TZOFFSETTO:-0500
TZNAME:EST
DTSTART:20271107T060000
END:STANDARD
END:VTIMEZONE
BEGIN:VEVENT
DTSTART;TZID=America/New_York:20260410T100000
DTEND;TZID=America/New_York:20260410T230000
DTSTAMP:20260419T110948
CREATED:20260319T161126Z
LAST-MODIFIED:20260319T161154Z
UID:34999-1775815200-1775862000@masshiregreaternewbedford.com
SUMMARY:Youth Council Meeting
DESCRIPTION:Agenda pending.
URL:https://masshiregreaternewbedford.com/event/youth-council-meeting/
LOCATION:MassHire Greater New Bedford Workforce Board Main Conference Room\, 25 Elm Street\, 2nd Floor\, Suite 203\, New Bedford\, MA\, 02740
CATEGORIES:Youth Council
ATTACH;FMTTYPE=image/jpeg:https://masshiregreaternewbedford.com/wp-content/uploads/WorkforceBoard_Logos_300x300GreaterNewBedford.jpg
END:VEVENT
END:VCALENDAR