BEGIN:VCALENDAR
VERSION:2.0
PRODID:-//MassHire Greater New Bedford Workforce Development Board - ECPv6.15.20//NONSGML v1.0//EN
CALSCALE:GREGORIAN
METHOD:PUBLISH
X-ORIGINAL-URL:https://masshiregreaternewbedford.com
X-WR-CALDESC:Events for MassHire Greater New Bedford Workforce Development Board
REFRESH-INTERVAL;VALUE=DURATION:PT1H
X-Robots-Tag:noindex
X-PUBLISHED-TTL:PT1H
BEGIN:VTIMEZONE
TZID:America/New_York
BEGIN:DAYLIGHT
TZOFFSETFROM:-0500
TZOFFSETTO:-0400
TZNAME:EDT
DTSTART:20240310T070000
END:DAYLIGHT
BEGIN:STANDARD
TZOFFSETFROM:-0400
TZOFFSETTO:-0500
TZNAME:EST
DTSTART:20241103T060000
END:STANDARD
BEGIN:DAYLIGHT
TZOFFSETFROM:-0500
TZOFFSETTO:-0400
TZNAME:EDT
DTSTART:20250309T070000
END:DAYLIGHT
BEGIN:STANDARD
TZOFFSETFROM:-0400
TZOFFSETTO:-0500
TZNAME:EST
DTSTART:20251102T060000
END:STANDARD
BEGIN:DAYLIGHT
TZOFFSETFROM:-0500
TZOFFSETTO:-0400
TZNAME:EDT
DTSTART:20260308T070000
END:DAYLIGHT
BEGIN:STANDARD
TZOFFSETFROM:-0400
TZOFFSETTO:-0500
TZNAME:EST
DTSTART:20261101T060000
END:STANDARD
BEGIN:DAYLIGHT
TZOFFSETFROM:-0500
TZOFFSETTO:-0400
TZNAME:EDT
DTSTART:20270314T070000
END:DAYLIGHT
BEGIN:STANDARD
TZOFFSETFROM:-0400
TZOFFSETTO:-0500
TZNAME:EST
DTSTART:20271107T060000
END:STANDARD
END:VTIMEZONE
BEGIN:VEVENT
DTSTART;TZID=America/New_York:20260304T120000
DTEND;TZID=America/New_York:20260304T133000
DTSTAMP:20260421T090758
CREATED:20260106T194848Z
LAST-MODIFIED:20260106T194848Z
UID:33312-1772625600-1772631000@masshiregreaternewbedford.com
SUMMARY:Executive Committee Meeting
DESCRIPTION:Agenda pending.
URL:https://masshiregreaternewbedford.com/event/executive-committee-meeting/
LOCATION:MassHire Greater New Bedford Workforce Board Main Conference Room\, 25 Elm Street\, 2nd Floor\, Suite 203\, New Bedford\, MA\, 02740
CATEGORIES:Executive Committee
ATTACH;FMTTYPE=image/jpeg:https://masshiregreaternewbedford.com/wp-content/uploads/WorkforceBoard_Logos_300x300GreaterNewBedford.jpg
END:VEVENT
BEGIN:VEVENT
DTSTART;TZID=America/New_York:20251210T120000
DTEND;TZID=America/New_York:20251210T140000
DTSTAMP:20260421T090758
CREATED:20250919T010021Z
LAST-MODIFIED:20251024T194140Z
UID:32357-1765368000-1765375200@masshiregreaternewbedford.com
SUMMARY:Executive Committee Meeting
DESCRIPTION:Agenda pending.
URL:https://masshiregreaternewbedford.com/event/executive-committee-meeting-3/
LOCATION:MassHire Greater New Bedford Workforce Board Main Conference Room\, 25 Elm Street\, 2nd Floor\, Suite 203\, New Bedford\, MA\, 02740
CATEGORIES:Executive Committee
ATTACH;FMTTYPE=image/jpeg:https://masshiregreaternewbedford.com/wp-content/uploads/WorkforceBoard_Logos_300x300GreaterNewBedford.jpg
END:VEVENT
BEGIN:VEVENT
DTSTART;TZID=America/New_York:20250917T120000
DTEND;TZID=America/New_York:20250917T130000
DTSTAMP:20260421T090758
CREATED:20250729T131517Z
LAST-MODIFIED:20250812T134245Z
UID:32149-1758110400-1758114000@masshiregreaternewbedford.com
SUMMARY:Executive Committee Meeting
DESCRIPTION:Agenda pending.
URL:https://masshiregreaternewbedford.com/event/select-executive-committee-meeting-executive-committee-meeting/
LOCATION:MassHire Greater New Bedford Workforce Board Main Conference Room\, 25 Elm Street\, 2nd Floor\, Suite 203\, New Bedford\, MA\, 02740
CATEGORIES:Executive Committee
ATTACH;FMTTYPE=image/jpeg:https://masshiregreaternewbedford.com/wp-content/uploads/WorkforceBoard_Logos_300x300GreaterNewBedford.jpg
END:VEVENT
END:VCALENDAR