BEGIN:VCALENDAR
VERSION:2.0
PRODID:-//MassHire Greater New Bedford Workforce Development Board - ECPv6.15.20//NONSGML v1.0//EN
CALSCALE:GREGORIAN
METHOD:PUBLISH
X-WR-CALNAME:MassHire Greater New Bedford Workforce Development Board
X-ORIGINAL-URL:https://masshiregreaternewbedford.com
X-WR-CALDESC:Events for MassHire Greater New Bedford Workforce Development Board
REFRESH-INTERVAL;VALUE=DURATION:PT1H
X-Robots-Tag:noindex
X-PUBLISHED-TTL:PT1H
BEGIN:VTIMEZONE
TZID:America/New_York
BEGIN:DAYLIGHT
TZOFFSETFROM:-0500
TZOFFSETTO:-0400
TZNAME:EDT
DTSTART:20250309T070000
END:DAYLIGHT
BEGIN:STANDARD
TZOFFSETFROM:-0400
TZOFFSETTO:-0500
TZNAME:EST
DTSTART:20251102T060000
END:STANDARD
BEGIN:DAYLIGHT
TZOFFSETFROM:-0500
TZOFFSETTO:-0400
TZNAME:EDT
DTSTART:20260308T070000
END:DAYLIGHT
BEGIN:STANDARD
TZOFFSETFROM:-0400
TZOFFSETTO:-0500
TZNAME:EST
DTSTART:20261101T060000
END:STANDARD
BEGIN:DAYLIGHT
TZOFFSETFROM:-0500
TZOFFSETTO:-0400
TZNAME:EDT
DTSTART:20270314T070000
END:DAYLIGHT
BEGIN:STANDARD
TZOFFSETFROM:-0400
TZOFFSETTO:-0500
TZNAME:EST
DTSTART:20271107T060000
END:STANDARD
END:VTIMEZONE
BEGIN:VEVENT
DTSTART;TZID=America/New_York:20260311T080000
DTEND;TZID=America/New_York:20260311T230000
DTSTAMP:20260423T074642
CREATED:20260218T202759Z
LAST-MODIFIED:20260218T202759Z
UID:33759-1773216000-1773270000@masshiregreaternewbedford.com
SUMMARY:Quarterly Board of Directors Meeting
DESCRIPTION:Agenda pending.
URL:https://masshiregreaternewbedford.com/event/quarterly-board-of-directors-meeting-2/
LOCATION:Lebaron Hills Country Club\, 183 Rhode Island Rd.\, Lakeville\, MA\, 02347
CATEGORIES:Board of Directors
ATTACH;FMTTYPE=image/jpeg:https://masshiregreaternewbedford.com/wp-content/uploads/WorkforceBoard_Logos_300x300GreaterNewBedford.jpg
ORGANIZER;CN="MassHire Greater New Bedford Workforce Board":MAILTO:info@masshiregreaternewbedford.com
END:VEVENT
END:VCALENDAR